BEGIN:VCALENDAR
VERSION:2.0
PRODID:-//pevenseybaylife.co.uk - ECPv4.0.4//NONSGML v1.0//EN
CALSCALE:GREGORIAN
METHOD:PUBLISH
X-WR-CALNAME:pevenseybaylife.co.uk
X-ORIGINAL-URL:http://www.pevenseybaylife.co.uk
X-WR-CALDESC:Events for pevenseybaylife.co.uk
BEGIN:VEVENT
DTSTART;TZID="UTC+1":20170718T113000
DTEND;TZID="UTC+1":20170718T123000
DTSTAMP:20170716T105018
CREATED:20160809T181222
LAST-MODIFIED:20160809T205149
UID:80577-1500377400-1500381000@www.pevenseybaylife.co.uk
SUMMARY:Swoove Fitness
DESCRIPTION:Swoove Fitness is now on at the St Wilfrid's Church Hall Pevensey Bay EVERY Tuesday 11:30-12:30. Swoove means to sing whoop and move and is a great fun way of burning calories and keeping fit and healthy. It is £5 a session Everyone is welcome any age\, any ability.
URL:http://www.pevenseybaylife.co.uk/event/swoove-fitness/2017-07-18/
LOCATION:St Wilfrids Hall\, Eastbourne Rd\, Pevensey Bay\, East Sussex\, BN24 6HN\, United Kingdom
GEO:50.8083839;0.3414862
X-APPLE-STRUCTURED-LOCATION;VALUE=URI;X-ADDRESS=St Wilfrids Hall Eastbourne Rd Pevensey Bay East Sussex BN24 6HN United Kingdom;X-APPLE-RADIUS=500;X-TITLE=St Wilfrids Hall\, Eastbourne Rd:geo:0.3414862,50.8083839
CATEGORIES:event
ATTACH;FMTTYPE=image/jpeg:http://www.pevenseybaylife.co.uk/wp-content/uploads/mime-120.jpg
ORGANIZER;CN="swoove":MAILTO:Helen.swoovefitness.com 
END:VEVENT
BEGIN:VEVENT
DTSTART;TZID="UTC+1":20170725T113000
DTEND;TZID="UTC+1":20170725T123000
DTSTAMP:20170716T105018
CREATED:20160809T181222
LAST-MODIFIED:20160809T205149
UID:80578-1500982200-1500985800@www.pevenseybaylife.co.uk
SUMMARY:Swoove Fitness
DESCRIPTION:Swoove Fitness is now on at the St Wilfrid's Church Hall Pevensey Bay EVERY Tuesday 11:30-12:30. Swoove means to sing whoop and move and is a great fun way of burning calories and keeping fit and healthy. It is £5 a session Everyone is welcome any age\, any ability.
URL:http://www.pevenseybaylife.co.uk/event/swoove-fitness/2017-07-25/
LOCATION:St Wilfrids Hall\, Eastbourne Rd\, Pevensey Bay\, East Sussex\, BN24 6HN\, United Kingdom
GEO:50.8083839;0.3414862
X-APPLE-STRUCTURED-LOCATION;VALUE=URI;X-ADDRESS=St Wilfrids Hall Eastbourne Rd Pevensey Bay East Sussex BN24 6HN United Kingdom;X-APPLE-RADIUS=500;X-TITLE=St Wilfrids Hall\, Eastbourne Rd:geo:0.3414862,50.8083839
CATEGORIES:event
ATTACH;FMTTYPE=image/jpeg:http://www.pevenseybaylife.co.uk/wp-content/uploads/mime-120.jpg
ORGANIZER;CN="swoove":MAILTO:Helen.swoovefitness.com 
END:VEVENT
BEGIN:VEVENT
DTSTART;TZID="UTC+1":20170801T113000
DTEND;TZID="UTC+1":20170801T123000
DTSTAMP:20170716T105018
CREATED:20160809T181222
LAST-MODIFIED:20160809T205149
UID:80579-1501587000-1501590600@www.pevenseybaylife.co.uk
SUMMARY:Swoove Fitness
DESCRIPTION:Swoove Fitness is now on at the St Wilfrid's Church Hall Pevensey Bay EVERY Tuesday 11:30-12:30. Swoove means to sing whoop and move and is a great fun way of burning calories and keeping fit and healthy. It is £5 a session Everyone is welcome any age\, any ability.
URL:http://www.pevenseybaylife.co.uk/event/swoove-fitness/2017-08-01/
LOCATION:St Wilfrids Hall\, Eastbourne Rd\, Pevensey Bay\, East Sussex\, BN24 6HN\, United Kingdom
GEO:50.8083839;0.3414862
X-APPLE-STRUCTURED-LOCATION;VALUE=URI;X-ADDRESS=St Wilfrids Hall Eastbourne Rd Pevensey Bay East Sussex BN24 6HN United Kingdom;X-APPLE-RADIUS=500;X-TITLE=St Wilfrids Hall\, Eastbourne Rd:geo:0.3414862,50.8083839
CATEGORIES:event
ATTACH;FMTTYPE=image/jpeg:http://www.pevenseybaylife.co.uk/wp-content/uploads/mime-120.jpg
ORGANIZER;CN="swoove":MAILTO:Helen.swoovefitness.com 
END:VEVENT
BEGIN:VEVENT
DTSTART;TZID="UTC+1":20170808T113000
DTEND;TZID="UTC+1":20170808T123000
DTSTAMP:20170716T105018
CREATED:20160809T181222
LAST-MODIFIED:20160809T205915
UID:80580-1502191800-1502195400@www.pevenseybaylife.co.uk
SUMMARY:Swoove Fitness
DESCRIPTION:Swoove Fitness is now on at the St Wilfrid's Church Hall Pevensey Bay EVERY Tuesday 11:30-12:30. Swoove means to sing whoop and move and is a great fun way of burning calories and keeping fit and healthy. It is £5 a session Everyone is welcome any age\, any ability.
URL:http://www.pevenseybaylife.co.uk/event/swoove-fitness/2017-08-08/
LOCATION:St Wilfrids Hall\, Eastbourne Rd\, Pevensey Bay\, East Sussex\, BN24 6HN\, United Kingdom
GEO:50.8083839;0.3414862
X-APPLE-STRUCTURED-LOCATION;VALUE=URI;X-ADDRESS=St Wilfrids Hall Eastbourne Rd Pevensey Bay East Sussex BN24 6HN United Kingdom;X-APPLE-RADIUS=500;X-TITLE=St Wilfrids Hall\, Eastbourne Rd:geo:0.3414862,50.8083839
CATEGORIES:event
ATTACH;FMTTYPE=image/jpeg:http://www.pevenseybaylife.co.uk/wp-content/uploads/mime-120.jpg
ORGANIZER;CN="swoove":MAILTO:Helen.swoovefitness.com 
END:VEVENT
BEGIN:VEVENT
DTSTART;TZID="UTC+1":20170815T113000
DTEND;TZID="UTC+1":20170815T123000
DTSTAMP:20170716T105018
CREATED:20160809T181222
LAST-MODIFIED:20160809T205915
UID:80581-1502796600-1502800200@www.pevenseybaylife.co.uk
SUMMARY:Swoove Fitness
DESCRIPTION:Swoove Fitness is now on at the St Wilfrid's Church Hall Pevensey Bay EVERY Tuesday 11:30-12:30. Swoove means to sing whoop and move and is a great fun way of burning calories and keeping fit and healthy. It is £5 a session Everyone is welcome any age\, any ability.
URL:http://www.pevenseybaylife.co.uk/event/swoove-fitness/2017-08-15/
LOCATION:St Wilfrids Hall\, Eastbourne Rd\, Pevensey Bay\, East Sussex\, BN24 6HN\, United Kingdom
GEO:50.8083839;0.3414862
X-APPLE-STRUCTURED-LOCATION;VALUE=URI;X-ADDRESS=St Wilfrids Hall Eastbourne Rd Pevensey Bay East Sussex BN24 6HN United Kingdom;X-APPLE-RADIUS=500;X-TITLE=St Wilfrids Hall\, Eastbourne Rd:geo:0.3414862,50.8083839
CATEGORIES:event
ATTACH;FMTTYPE=image/jpeg:http://www.pevenseybaylife.co.uk/wp-content/uploads/mime-120.jpg
ORGANIZER;CN="swoove":MAILTO:Helen.swoovefitness.com 
END:VEVENT
BEGIN:VEVENT
DTSTART;TZID="UTC+1":20170822T113000
DTEND;TZID="UTC+1":20170822T123000
DTSTAMP:20170716T105018
CREATED:20160809T181222
LAST-MODIFIED:20160809T205915
UID:80582-1503401400-1503405000@www.pevenseybaylife.co.uk
SUMMARY:Swoove Fitness
DESCRIPTION:Swoove Fitness is now on at the St Wilfrid's Church Hall Pevensey Bay EVERY Tuesday 11:30-12:30. Swoove means to sing whoop and move and is a great fun way of burning calories and keeping fit and healthy. It is £5 a session Everyone is welcome any age\, any ability.
URL:http://www.pevenseybaylife.co.uk/event/swoove-fitness/2017-08-22/
LOCATION:St Wilfrids Hall\, Eastbourne Rd\, Pevensey Bay\, East Sussex\, BN24 6HN\, United Kingdom
GEO:50.8083839;0.3414862
X-APPLE-STRUCTURED-LOCATION;VALUE=URI;X-ADDRESS=St Wilfrids Hall Eastbourne Rd Pevensey Bay East Sussex BN24 6HN United Kingdom;X-APPLE-RADIUS=500;X-TITLE=St Wilfrids Hall\, Eastbourne Rd:geo:0.3414862,50.8083839
CATEGORIES:event
ATTACH;FMTTYPE=image/jpeg:http://www.pevenseybaylife.co.uk/wp-content/uploads/mime-120.jpg
ORGANIZER;CN="swoove":MAILTO:Helen.swoovefitness.com 
END:VEVENT
END:VCALENDAR